BEGIN:VCALENDAR
VERSION:2.0
PRODID:-//eventon.com NONSGML v1.0//EN
CALSCALE:GREGORIAN
METHOD:PUBLISH
BEGIN:VEVENT
UID:69ea2f5bcee65
DTSTAMP:20260423T144027Z
DTSTART:20181224T113000Z
DTEND:20181224T130000Z
LOCATION:
SUMMARY:Caldito y vermú que viene Belcebú
DESCRIPTION:Nos gusta encontrar-nos. Nos gusta encontraros… ahora en un n
 uevo espacio. Nos gusta celebrar aunque sea en fechas de empacho. Por eso\,
   un año más\,  os convocamos al caldito y al vermú en honor a la llegad
 a de… de nosotras mismas\,  o de Belcebú… tú eliges. La Vorágine inv
 ita al[..]\nhttps://lavoragine.net/eventos/caldito-y-vermu-que-viene-belceb
 u-3/
URL:https://lavoragine.net/eventos/caldito-y-vermu-que-viene-belcebu-3/
END:VEVENT
END:VCALENDAR