BEGIN:VCALENDAR
VERSION:2.0
PRODID:-//eventon.com NONSGML v1.0//EN
CALSCALE:GREGORIAN
METHOD:PUBLISH
BEGIN:VEVENT
UID:69ec0ce9d78e7
DTSTAMP:20260425T003801Z
DTSTART:20230804T180000Z
DTEND:20230804T193000Z
LOCATION:
SUMMARY:No estamos solas con Alberto Santamaría
DESCRIPTION:Alberto Santamaría contiene multitudes. No por las contradicci
 ones con las que conviva —como todas—\,  sino porque tiene la capacidad
  de mirar y contar desde ángulos muy diversos. La poesía\,  el ensayo o l
 a narrativa como géneros; la filosofía\,  el pensamiento político o la d
 islocación intelectual como campos de siembra e[..]\nhttps://lavoragine.ne
 t/eventos/no-estamos-solas-con-alberto-santamaria/
URL:https://lavoragine.net/eventos/no-estamos-solas-con-alberto-santamaria/
END:VEVENT
END:VCALENDAR