BEGIN:VCALENDAR
VERSION:2.0
PRODID:-//eventon.com NONSGML v1.0//EN
CALSCALE:GREGORIAN
METHOD:PUBLISH
BEGIN:VEVENT
UID:69e7bab0eb403
DTSTAMP:20260421T175808Z
DTSTART:20190228T183000Z
DTEND:20190228T225000Z
LOCATION:
SUMMARY:De la frontera mediática a la frontera real entre Colombia y Venezuela
DESCRIPTION:El Café Mundial es una oportunidad para desaprender o\,  al me
 nos\,  para poner en cuestión la información hegemónica sobre diversas s
 ituaciones que ocurren a lo largo y ancho del planeta. En la edición de es
 te mes de febrero\,  el Café Mundial se desplaza a Cúcuta\,  en la fronte
 ra entre Colombia[..]\nhttps://lavoragine.net/eventos/cafe-mundial-3/
URL:https://lavoragine.net/eventos/cafe-mundial-3/
END:VEVENT
END:VCALENDAR