BEGIN:VCALENDAR
VERSION:2.0
PRODID:-//eventon.com NONSGML v1.0//EN
CALSCALE:GREGORIAN
METHOD:PUBLISH
BEGIN:VEVENT
UID:69e8530454204
DTSTAMP:20260422T044804Z
DTSTART:20231004T173000Z
DTEND:20231004T190000Z
LOCATION:
SUMMARY:Presentación de 'Aquel mar que nunca vimos' con José Antonio Abella\,  Jesús Herrán y Esteban Ruiz
DESCRIPTION:El libro de Jose Antonio Abella sobre Antonio Benaiges\,  el ma
 estro fusilado al inicio de la guerra civil y cuya historia no deja de insp
 irar creaciones artísticas alrededor de la memoria. Vamos a hablar con Jes
 ús Herrán (Valnera)\,  su editor y amigo\,  y con el sociólogo y editor 
 Esteban Ruiz.[..]\nhttps://lavoragine.net/eventos/presentacion-de-aquel-mar
 -que-nunca-vimos-con-jose-antonio-abella-y-jesus-herran/
URL:https://lavoragine.net/eventos/presentacion-de-aquel-mar-que-nunca-vimos-con-jose-antonio-abella-y-jesus-herran/
END:VEVENT
END:VCALENDAR