BEGIN:VCALENDAR
VERSION:2.0
PRODID:-//eventon.com NONSGML v1.0//EN
CALSCALE:GREGORIAN
METHOD:PUBLISH
BEGIN:VEVENT
UID:69e93c022744c
DTSTAMP:20260422T212210Z
DTSTART:20240301T183000Z
DTEND:20240301T200000Z
LOCATION:
SUMMARY:Escondido en nuestro silencio
DESCRIPTION:Para romper el silencio y despertar nuestra conciencia\,  Eugen
 io Torrecilla nos presenta un poemario comprometido y esclarecedor\,  de in
 dudable madurez\,  que gira en torno a la condición humana. Desde las cave
 rnas de Altamira hasta el último hombre que ha pisado la luna\,  su mirada
  poética recorre nuestra historia y nos[..]\nhttps://lavoragine.net/evento
 s/escondido-en-nuestro-silencio/
URL:https://lavoragine.net/eventos/escondido-en-nuestro-silencio/
END:VEVENT
END:VCALENDAR