BEGIN:VCALENDAR
VERSION:2.0
PRODID:-//eventon.com NONSGML v1.0//EN
CALSCALE:GREGORIAN
METHOD:PUBLISH
BEGIN:VEVENT
UID:69eab6005437d
DTSTAMP:20260424T001456Z
DTSTART:20190829T180000Z
DTEND:20190829T215000Z
LOCATION:
SUMMARY:Venís desde lejos
DESCRIPTION:Amal Ramsis Duración: 85 minutos Imagina que tu padre es un á
 rabe palestino que decidió luchar contra Franco en la guerra civil españo
 la. Imagina que tienes hermanos y hermanas con los cuales no puedes comunic
 arte\,  pues no habláis el mismo idioma. Imagina que tienes familia\,  per
 o creciste sin tus padres…[..]\nhttps://lavoragine.net/eventos/venis-desd
 e-lejos/
URL:https://lavoragine.net/eventos/venis-desde-lejos/
END:VEVENT
END:VCALENDAR