BEGIN:VCALENDAR
VERSION:2.0
PRODID:-//eventon.com NONSGML v1.0//EN
CALSCALE:GREGORIAN
METHOD:PUBLISH
BEGIN:VEVENT
UID:69eab5c4a7c0c
DTSTAMP:20260424T001356Z
DTSTART:20240821T060000Z
DTEND:20240821T080000Z
LOCATION:
SUMMARY:Cantata de la guerra civil. Con Alfonso Domingo (director)
DESCRIPTION:Alfonso Domingo / Documental / 58 minutos Cantata de la Guerra 
 Civil' es un documental que cuenta\,  a través de las canciones\,  música
 s populares\,  e imágenes de archivo\,  la vida cotidiana y el enfrentamie
 nto que hubo en España de 1936 a 1939. Cantata de la Guerra Civil recupe
 ra aquellas tonadas que sonaron[..]\nhttps://lavoragine.net/eventos/cantata
 -de-la-guerra-civil-con-alfonso-domingo-director/
URL:https://lavoragine.net/eventos/cantata-de-la-guerra-civil-con-alfonso-domingo-director/
END:VEVENT
END:VCALENDAR