BEGIN:VCALENDAR
VERSION:2.0
PRODID:-//eventon.com NONSGML v1.0//EN
CALSCALE:GREGORIAN
METHOD:PUBLISH
BEGIN:VEVENT
UID:69ec0c85d3542
DTSTAMP:20260425T003621Z
DTSTART:20240802T180000Z
DTEND:20240802T193000Z
LOCATION:
SUMMARY:Fuga Mundi
DESCRIPTION:Presentación del poemario ganador del IV Premio Internacional 
 de Poesía Crítica Álvaro Tejero Barrio. Con Laura García de Lucas (auto
 ra) y Nieves Álvarez. La poeta Laura García de Lucas\,  acompañada de la
  también poeta y escritora Nieves Álvarez\,  presentará su libro Fuga Mu
 ndi ganador del IV Premio Internacional de Poesía[..]\nhttps://lavoragine.
 net/eventos/fuga-mundi/
URL:https://lavoragine.net/eventos/fuga-mundi/
END:VEVENT
END:VCALENDAR