BEGIN:VCALENDAR
VERSION:2.0
PRODID:-//eventon.com NONSGML v1.0//EN
CALSCALE:GREGORIAN
METHOD:PUBLISH
BEGIN:VEVENT
UID:69e9b9e7a74bc
DTSTAMP:20260423T061919Z
DTSTART:20191025T173000Z
DTEND:20191025T215000Z
LOCATION:
SUMMARY:Feminismos islámicos\,  hermanas de lucha.
DESCRIPTION:Wadia N Duhni se acercará desde Asturias para conversar sobre 
 Feminismos islámicos. Ella nos propone un viaje hacia las entrañas del em
 poderamiento de la mujer musulmana\,  en su triple hermenéutica contra el 
 patriarcado cultural\,  las interpretaciones misóginas de los textos sagra
 dos\,  y el feminismo eurocentrista y colonial. Desvelando la cosmovisión[
 ..]\nhttps://lavoragine.net/eventos/feminismos-islamicos-hermanas-de-lucha/
URL:https://lavoragine.net/eventos/feminismos-islamicos-hermanas-de-lucha/
END:VEVENT
END:VCALENDAR