BEGIN:VCALENDAR
VERSION:2.0
PRODID:-//eventon.com NONSGML v1.0//EN
CALSCALE:GREGORIAN
METHOD:PUBLISH
BEGIN:VEVENT
UID:69ea6c0ef0bb3
DTSTAMP:20260423T185926Z
DTSTART:20200108T183000Z
DTEND:20200108T225000Z
LOCATION:
SUMMARY:El asesinato físico y simbólico de Federico García Lorca
DESCRIPTION:Quién mató a Lorca y dónde está su cuerpo son dos de las pr
 eguntas sobre las que más se ha conjeturado en relación al poeta y dramat
 urgo español. Sin embargo\,  más allá de la mano ejecutora y de la ubica
 ción de sus restos\,  resulta fundamental preguntarse sobre lo que signifi
 có[..]\nhttps://lavoragine.net/eventos/el-asesinato-fisico-y-simbolico-de-
 federico-garcia-lorca/
URL:https://lavoragine.net/eventos/el-asesinato-fisico-y-simbolico-de-federico-garcia-lorca/
END:VEVENT
END:VCALENDAR