BEGIN:VCALENDAR
VERSION:2.0
PRODID:-//eventon.com NONSGML v1.0//EN
CALSCALE:GREGORIAN
METHOD:PUBLISH
BEGIN:VEVENT
UID:69e5236d202ac
DTSTAMP:20260419T184813Z
DTSTART:20200207T183000Z
DTEND:20200207T225000Z
LOCATION:
SUMMARY:Primo Levi: la inextinguible memoria de las cenizas
DESCRIPTION:La obra es un estudio en torno al escritor italiano de origen j
 udío Primo Levi\,  quien dio a conocer su trágica experiencia de confinad
 o en Auschwitz y su posterior liberación por las tropas rusas en tres libr
 os: Si esto es un hombre; La tregua y Los hundidos y los salvados.[..]\nhtt
 ps://lavoragine.net/eventos/primo-levi-la-inextinguible-memoria-de-las-ceni
 zas/
URL:https://lavoragine.net/eventos/primo-levi-la-inextinguible-memoria-de-las-cenizas/
END:VEVENT
END:VCALENDAR