BEGIN:VCALENDAR
VERSION:2.0
PRODID:-//eventon.com NONSGML v1.0//EN
CALSCALE:GREGORIAN
METHOD:PUBLISH
BEGIN:VEVENT
UID:69e54436cb57d
DTSTAMP:20260419T210806Z
DTSTART:20241209T183000Z
DTEND:20241209T210000Z
LOCATION:
SUMMARY:Atusparia
DESCRIPTION:Las literaturas de las mujeres latinoamericanas en la diáspora
  están aportando una riqueza tremenda a nuestras lecturas vividas. Narraci
 ones que cruzan océanos para arrastrarnos a realidades ignoradas o descono
 cidas con una apuesta por la literatura de calidad y de géneros muy divers
 os. Una de las grandes exponentes es Gabriela Wiener\, [..]\nhttps://lavora
 gine.net/eventos/atusparia/
URL:https://lavoragine.net/eventos/atusparia/
END:VEVENT
END:VCALENDAR