BEGIN:VCALENDAR
VERSION:2.0
PRODID:-//eventon.com NONSGML v1.0//EN
CALSCALE:GREGORIAN
METHOD:PUBLISH
BEGIN:VEVENT
UID:69eba1f8d39bd
DTSTAMP:20260424T170144Z
DTSTART:20250124T183000Z
DTEND:20250124T200000Z
LOCATION:
SUMMARY:Némesis
DESCRIPTION:Némesis es la diosa de la venganza\,  la diosa de la Justicia 
 Distributiva y a ella\,  están dedicadas estas notas.Némesis vio la luz e
 n el mes de noviembre de 2023 y\,  al principio\,  fue más que nada un gri
 to de alarma. Después\,  salió esto. Un libro devastador que requiere est
 ómago.[..]\nhttps://lavoragine.net/eventos/nemesis/
URL:https://lavoragine.net/eventos/nemesis/
END:VEVENT
END:VCALENDAR