BEGIN:VCALENDAR
VERSION:2.0
PRODID:-//eventon.com NONSGML v1.0//EN
CALSCALE:GREGORIAN
METHOD:PUBLISH
BEGIN:VEVENT
UID:69e8530dcd8e5
DTSTAMP:20260422T044813Z
DTSTART:20250122T183000Z
DTEND:20250122T200000Z
LOCATION:
SUMMARY:La cocina de los colores
DESCRIPTION:Vuelve a su casa David Remartínez\,  el periodista sagaz\,  in
 teligente y divertido que ya nos sorprendió con La puta gastronomía\,  Cu
 lo veo\,  culo quiero o Una historia pop de los vampiros. Vuelve a La Vorá
 gine como le gusta\,  acompañado de buenos amigos\,  en este caso de los a
 sturianos Borja Alcázar[..]\nhttps://lavoragine.net/eventos/la-cocina-de-l
 os-colores/
URL:https://lavoragine.net/eventos/la-cocina-de-los-colores/
END:VEVENT
END:VCALENDAR