BEGIN:VCALENDAR
VERSION:2.0
PRODID:-//eventon.com NONSGML v1.0//EN
CALSCALE:GREGORIAN
METHOD:PUBLISH
BEGIN:VEVENT
UID:69ebdd2f43930
DTSTAMP:20260424T211423Z
DTSTART:20250207T183000Z
DTEND:20250207T200000Z
LOCATION:
SUMMARY:Cinco lorzas metafísicas
DESCRIPTION:Crítica de arte\,  escritora y dueña de un humor que reparte 
 bofetadas como otros prescriben dietas\,  María von Touceda se planta fren
 te a la satanización contemporánea del sobrepeso con las armas de su prop
 ia experiencia de gorda\,  una sabiduría tan envidiable como directa\,  y 
 una impresionante falta de miedo a[..]\nhttps://lavoragine.net/eventos/cinc
 o-lorzas-metafisicas/
URL:https://lavoragine.net/eventos/cinco-lorzas-metafisicas/
END:VEVENT
END:VCALENDAR