BEGIN:VCALENDAR
VERSION:2.0
PRODID:-//eventon.com NONSGML v1.0//EN
CALSCALE:GREGORIAN
METHOD:PUBLISH
BEGIN:VEVENT
UID:69ec0c7be1a78
DTSTAMP:20260425T003611Z
DTSTART:20250507T173000Z
DTEND:20250507T190000Z
LOCATION:
SUMMARY:Cinco ideas para entender la crisis climática
DESCRIPTION:Cinco ideas y diez palabras para entender la crisis climática:
  1. Es real\,  2. Somos nosotros\,  3. Consenso científico\,  4. Es mala\,
   5. Hay esperanza. En un momento en que el mundo se encuentra al borde de 
 una crisis ambiental sin precedentes\,  el objetivo de este libro es propor
 cionar una[..]\nhttps://lavoragine.net/eventos/cinco-ideas-para-entender-la
 -crisis-climatica/
URL:https://lavoragine.net/eventos/cinco-ideas-para-entender-la-crisis-climatica/
END:VEVENT
END:VCALENDAR