BEGIN:VCALENDAR
VERSION:2.0
PRODID:-//eventon.com NONSGML v1.0//EN
CALSCALE:GREGORIAN
METHOD:PUBLISH
BEGIN:VEVENT
UID:69e54877315eb
DTSTAMP:20260419T212615Z
DTSTART:20140616T170000Z
DTEND:20140616T180000Z
LOCATION:
SUMMARY:Encuentro 30 /1
DESCRIPTION:El Centro Cultural Quima tiene ya casi 30 años de experienci
 a\,  de aprendizajes\,  de avances\,  de problemas. La Vorágine acaba de c
 umplir su primer año de existencia. En este encuentro\,  abierto a todas l
 as personas interesadas\,  vamos a compartir saberes y dudas\,  anhelos y a
 prendizajes…\nhttps://lavoragine.net/eventos/encuentro-30-1/
URL:https://lavoragine.net/eventos/encuentro-30-1/
END:VEVENT
END:VCALENDAR