BEGIN:VCALENDAR
VERSION:2.0
PRODID:-//eventon.com NONSGML v1.0//EN
CALSCALE:GREGORIAN
METHOD:PUBLISH
BEGIN:VEVENT
UID:69ec0c67d1947
DTSTAMP:20260425T003551Z
DTSTART:20260319T183000Z
DTEND:20260319T200000Z
LOCATION:
SUMMARY:La mujer invisible
DESCRIPTION:La mujer invisible\,  de Caroline Criado Pérez. El próximo en
 cuentro del grupo de “Lecturas compartidas” será sobre el libro “La 
 mujer invisible” de Caroline Criado Pérez (2020). Este ensayo analiza da
 tos y estudios para poner de manifiesto como su interpretación está marca
 da por un sesgo. El encuentro tendrá lugar el[..]\nhttps://lavoragine.net/
 eventos/la-mujer-invisible/
URL:https://lavoragine.net/eventos/la-mujer-invisible/
END:VEVENT
END:VCALENDAR