BEGIN:VCALENDAR
VERSION:2.0
PRODID:-//eventon.com NONSGML v1.0//EN
CALSCALE:GREGORIAN
METHOD:PUBLISH
BEGIN:VEVENT
UID:69ed52386af10
DTSTAMP:20260425T234600Z
DTSTART:20260429T173000Z
DTEND:20260429T190000Z
LOCATION:
SUMMARY:Hostal España
DESCRIPTION:Visionado del documental y presentación de libro Todas las hab
 itaciones del Hostal España\,  un modesto y céntrico establecimiento situ
 ado en una ciudad de provincias\,  están ocupadas por personas mayores\,  
 muchas de ellas procedentes del abandonado entorno rural. En sus estancias\
 ,  pasillos y comedor\,  las estaciones se suceden sin pausa para[..]\nhttp
 s://lavoragine.net/eventos/hostal-espana/
URL:https://lavoragine.net/eventos/hostal-espana/
END:VEVENT
END:VCALENDAR