BEGIN:VCALENDAR
VERSION:2.0
PRODID:-//eventon.com NONSGML v1.0//EN
CALSCALE:GREGORIAN
METHOD:PUBLISH
BEGIN:VEVENT
UID:69ea1137e001d
DTSTAMP:20260423T123151Z
DTSTART:20141118T183000Z
DTEND:20141118T203000Z
LOCATION:La Vorágine
SUMMARY:Pueblos indígenas y mujeres. Emilse Paz
DESCRIPTION:El próximo martes 18 de noviembre a las 7:30 pm. tendrá lugar
  en la Librería La Vorágine de Santander un encuentro con la defensora de
  derechos de las mujeres indígenas\,  Emilse Paz\,  Emilse es una Mujer In
 dígena Nasa\,  lideresa del proceso indígena de la ACIN – Asociación d
 e Cabildos Indígenas[..]\nhttps://lavoragine.net/eventos/pueblos-indigenas
 -y-mujeres/
URL:https://lavoragine.net/eventos/pueblos-indigenas-y-mujeres/
END:VEVENT
END:VCALENDAR