BEGIN:VCALENDAR
VERSION:2.0
PRODID:-//eventon.com NONSGML v1.0//EN
CALSCALE:GREGORIAN
METHOD:PUBLISH
BEGIN:VEVENT
UID:69ed16f3076e4
DTSTAMP:20260425T193307Z
DTSTART:20141206T200000Z
DTEND:20141206T000000Z
LOCATION:Café Ópera
SUMMARY:Un jueves de poesía en un sábado in (constitucional)
DESCRIPTION:Café Opera\nhttps://lavoragine.net/eventos/un-jueves-de-poesia
 -en-un-sabado-in-constitucional/
URL:https://lavoragine.net/eventos/un-jueves-de-poesia-en-un-sabado-in-constitucional/
END:VEVENT
END:VCALENDAR