BEGIN:VCALENDAR
VERSION:2.0
PRODID:-//eventon.com NONSGML v1.0//EN
CALSCALE:GREGORIAN
METHOD:PUBLISH
BEGIN:VEVENT
UID:69ed7911c8fae
DTSTAMP:20260426T023145Z
DTSTART:20141204T183000Z
DTEND:20141215T120000Z
LOCATION:La Vorágine
SUMMARY:Del mito al cuento. 3x3 mujeres. Emma Jimeno
DESCRIPTION:Última entrega de la exposición de ilustración 3x3 mujeres e
 stá vez con Emma Jimeno\,  nacida en Santurtzi (Bizkaia). En su obra se me
 zclan reflexiones sobre la feminidad y la naturaleza con elementos sacados 
 de las mitologías mas arraigadas en los pueblos y las culturas del norte d
 e la península ibérica.[..]\nhttps://lavoragine.net/eventos/emma_jimeno/
URL:https://lavoragine.net/eventos/emma_jimeno/
END:VEVENT
END:VCALENDAR