BEGIN:VCALENDAR
VERSION:2.0
PRODID:-//eventon.com NONSGML v1.0//EN
CALSCALE:GREGORIAN
METHOD:PUBLISH
BEGIN:VEVENT
UID:69eab5d85338b
DTSTAMP:20260424T001416Z
DTSTART:20150128T183000Z
DTEND:20150128T000000Z
LOCATION:La Vorágine
SUMMARY:Conoce la Red de Intercambio Solidario Saja
DESCRIPTION:La Red de Intercambio Solidario Saja ha nacido en Cabezón de l
 a Sal y es una muy buena señal. Otra forma de producir\,  de consumir\,  d
 e vivir... un proyecto que incluye una moneda complementaria y otras línea
 s de trabajo. Vamos a conocer cómo lo hacen y cómo lo sueñan.\nhttps://l
 avoragine.net/eventos/conoce-la-red-de-intercambio-solidario-saja/
URL:https://lavoragine.net/eventos/conoce-la-red-de-intercambio-solidario-saja/
END:VEVENT
END:VCALENDAR