BEGIN:VCALENDAR
VERSION:2.0
PRODID:-//eventon.com NONSGML v1.0//EN
CALSCALE:GREGORIAN
METHOD:PUBLISH
BEGIN:VEVENT
UID:69eabb54a06d3
DTSTAMP:20260424T003740Z
DTSTART:20150130T183000Z
DTEND:20150130T193000Z
LOCATION:La Vorágine
SUMMARY:La Palabra Rota: Antonio Méndez Rubio y Vicente Gutiérrez
DESCRIPTION:Desde un posicionamiento claramente crítico y radical\,  las j
 ornadas que hemos denominado La palabra rota\,  pretenden ser un espacio en
  el que reflexionar y debatir en torno a una cuestión olvidada (incluso de
 spreciada por la élite cultural): las rupturas del lenguaje coloquial en l
 a escritura del poema. Tal actividad\,  que[..]\nhttps://lavoragine.net/eve
 ntos/antonio-mendez-rubio-y-vicente-gutierrez/
URL:https://lavoragine.net/eventos/antonio-mendez-rubio-y-vicente-gutierrez/
END:VEVENT
END:VCALENDAR