BEGIN:VCALENDAR
VERSION:2.0
PRODID:-//eventon.com NONSGML v1.0//EN
CALSCALE:GREGORIAN
METHOD:PUBLISH
BEGIN:VEVENT
UID:69ec0d07db7ad
DTSTAMP:20260425T003831Z
DTSTART:20150401T173000Z
DTEND:20150401T190000Z
LOCATION:La Vorágine
SUMMARY:MILITANCIAS: encuentro con Esperanza Ahumada
DESCRIPTION:MILITANCIAS: El movimiento obrero en Cantabria bajo el franquis
 mo MILITANCIAS regresa con un formato vivo en el que invitamos a protagonis
 tas de ese momento para que\,  más allá de la historia de los movimientos
  en los que participaron\,  nos cuenten su experiencia personal como milit
 antes. Memoria colectiva para entender (nos). &nbsp;[..]\nhttps://lavoragin
 e.net/eventos/militancias-encuentro-con-esperanza-ahumada/
URL:https://lavoragine.net/eventos/militancias-encuentro-con-esperanza-ahumada/
END:VEVENT
END:VCALENDAR