BEGIN:VCALENDAR
VERSION:2.0
PRODID:-//eventon.com NONSGML v1.0//EN
CALSCALE:GREGORIAN
METHOD:PUBLISH
BEGIN:VEVENT
UID:69ed15dfda94f
DTSTAMP:20260425T192831Z
DTSTART:20150324T183000Z
DTEND:20150324T200000Z
LOCATION:La Vorágine
SUMMARY:Mirada Crítica con Alberto Aja
DESCRIPTION:Mirada Crítica\,  nuestro espacio para el fotoperiodismo\,  no
 s acerca en esta edición al trabajo de Alberto Aja. Este  fotórreporter
 o cántabro ya experimentaba con la imagen desde la adolescencia ya que co
 mo alpinista\,  escalador -y montañero en esencia-\,  fotografiaba su acti
 vidad deportiva. Pero la vocación fotoperiodística nace durante sus estud
 ios de Historia y[..]\nhttps://lavoragine.net/eventos/mirada-critica-con-al
 berto-aja/
URL:https://lavoragine.net/eventos/mirada-critica-con-alberto-aja/
END:VEVENT
END:VCALENDAR