BEGIN:VCALENDAR
VERSION:2.0
PRODID:-//eventon.com NONSGML v1.0//EN
CALSCALE:GREGORIAN
METHOD:PUBLISH
BEGIN:VEVENT
UID:69ed4dabd7332
DTSTAMP:20260425T232635Z
DTSTART:20150417T173000Z
DTEND:20150417T193000Z
LOCATION:La Vorágine
SUMMARY:Las izquierdas y ETA\,  radiografía compleja (I)
DESCRIPTION:Primera jornada del ciclo que acoge La Vorágine\,  propuesto 
 por algunas personas que están estudiando de forma crítica las complejas 
 relaciones de la izquierda con el fenómeno de ETA. 1ª sesión / 17 de abr
 il / 19:30 h. Gaizka Fernández: “La falsedad de lo inevitable de la vio
 lencia de ETA: la disolución[..]\nhttps://lavoragine.net/eventos/las-izqui
 erdas-y-eta-radiografia-compleja-i/
URL:https://lavoragine.net/eventos/las-izquierdas-y-eta-radiografia-compleja-i/
END:VEVENT
END:VCALENDAR