BEGIN:VCALENDAR
VERSION:2.0
PRODID:-//eventon.com NONSGML v1.0//EN
CALSCALE:GREGORIAN
METHOD:PUBLISH
BEGIN:VEVENT
UID:69e61b0809d6c
DTSTAMP:20260420T122440Z
DTSTART:20150716T180000Z
DTEND:20150716T194500Z
LOCATION:La Vorágine
SUMMARY:Cine para desmemoriados: La luz de aquella tierra
DESCRIPTION:Tercera película del ciclo Cine para Desmemoriados. La luz de 
 aquella tierra es un documental de 2013 (86'). En los primeros meses de 193
 9\,  cerca de medio millón de republicanos y replublicanas españolas huye
 n a Francia en un éxodo masivo. Al pasar la frontera francesa el sueño de
  libertad se[..]\nhttps://lavoragine.net/eventos/cine-para-desmemoriados-la
 -luz-de-aquella-tierra/
URL:https://lavoragine.net/eventos/cine-para-desmemoriados-la-luz-de-aquella-tierra/
END:VEVENT
END:VCALENDAR