BEGIN:VCALENDAR
VERSION:2.0
PRODID:-//eventon.com NONSGML v1.0//EN
CALSCALE:GREGORIAN
METHOD:PUBLISH
BEGIN:VEVENT
UID:69e4c623dd156
DTSTAMP:20260419T121011Z
DTSTART:20150820T180000Z
DTEND:20150819T230000Z
LOCATION:La Vorágine
SUMMARY:3 miradas de Eduardo Lostal\,  Mirada Crítica
DESCRIPTION:El próximo jueves 20 de agosto Eduardo nos trae su mirada en 
 tres facetas. Como viajero\,  ha recorrido los 5 continentes. Le interesan 
 las culturas tribales\,  aquellos mundos que siguen arraigados a sus tradic
 iones\,  al margen de la globalización. África es el escenario más recur
 rente. Su preferido. Pero también Asia\,  América[..]\nhttps://lavoragine
 .net/eventos/3-miradas-de-eduardo-lostal-mirada-critica/
URL:https://lavoragine.net/eventos/3-miradas-de-eduardo-lostal-mirada-critica/
END:VEVENT
END:VCALENDAR