BEGIN:VCALENDAR
VERSION:2.0
PRODID:-//eventon.com NONSGML v1.0//EN
CALSCALE:GREGORIAN
METHOD:PUBLISH
BEGIN:VEVENT
UID:69eb3f146e4b2
DTSTAMP:20260424T095948Z
DTSTART:20151105T183000Z
DTEND:20151105T000000Z
LOCATION:La VorÃ¡gine
SUMMARY:InvasiÃ³n eÃ³lica del sur de Cantabria
DESCRIPTION:DespuÃ©s de un largo periplo que ha culminado con la anulaciÃ³n
  por el Supremo del ConcursoÂ eÃ³lico\,  nos enfrentamos de nuevo a la mism
 a invasiÃ³n eÃ³lica de hace seis aÃ±os\,  como si nadaÂ hubiese sucedido po
 r el camino. Los mismos consejeros\,  las mismas ubicaciones\,  las mismasÂ
  empresas que en Tehuantepec\,  MÃ©xico\,  donde mueren[..]\nhttps://lavora
 gine.net/eventos/invasion-eolica-del-sur-de-cantabria/
URL:https://lavoragine.net/eventos/invasion-eolica-del-sur-de-cantabria/
END:VEVENT
END:VCALENDAR