BEGIN:VCALENDAR
VERSION:2.0
PRODID:-//eventon.com NONSGML v1.0//EN
CALSCALE:GREGORIAN
METHOD:PUBLISH
BEGIN:VEVENT
UID:69ebdd25a4510
DTSTAMP:20260424T211413Z
DTSTART:20160211T190000Z
DTEND:20160211T210000Z
LOCATION:Teatro Municipal Concha Espina (Torrelavega)
SUMMARY:Exhumación\,  materia cruda
DESCRIPTION:EXHUMACIÓN. Materia cruda llega a Cantabria de la mano de La V
 orágine y del proyecto Desmemoriados\,  memoria colectiva de Cantabria den
 tro de su trabajo para visibilizar y construir un relato alterno sobre lo o
 currido en nuestro territorio. Esta obra de Teatro Documental generará\,  
 además\,  un momento de charla con el[..]\nhttps://lavoragine.net/eventos/
 exhumacion-materia-cruda/
URL:https://lavoragine.net/eventos/exhumacion-materia-cruda/
END:VEVENT
END:VCALENDAR