BEGIN:VCALENDAR
VERSION:2.0
PRODID:-//eventon.com NONSGML v1.0//EN
CALSCALE:GREGORIAN
METHOD:PUBLISH
BEGIN:VEVENT
UID:69ea3e4d070c8
DTSTAMP:20260423T154413Z
DTSTART:20160408T173000Z
DTEND:20160408T190000Z
LOCATION:La VorÃ¡gine
SUMMARY:Asamblea abierta de Libres
DESCRIPTION:Las libertades siguen amenazadas y el momento polÃ­tico del paÃ
 ­s es crucial. Ven a la reuniÃ³n mensual de la Asamblea CÃ¡ntabra por las L
 ibertades y contra la RepresiÃ³n y conoce los prÃ³ximos pasos\,  incluidas 
 las jornadas sobre Procesos Constituyentes y el trabajo que se estÃ¡ hacien
 do alrededor de la AmnistÃ­a[..]\nhttps://lavoragine.net/eventos/asamblea-a
 bierta-de-libres-4/
URL:https://lavoragine.net/eventos/asamblea-abierta-de-libres-4/
END:VEVENT
END:VCALENDAR