BEGIN:VCALENDAR
VERSION:2.0
PRODID:-//eventon.com NONSGML v1.0//EN
CALSCALE:GREGORIAN
METHOD:PUBLISH
BEGIN:VEVENT
UID:69eab5f65d355
DTSTAMP:20260424T001446Z
DTSTART:20160420T173000Z
DTEND:20160420T193000Z
LOCATION:La Vorágine
SUMMARY:La necesidad de los procesos constituyentes (I): Emmanuel Rodríguez
DESCRIPTION:La Asamblea Cántabra por las Libertades y contra la Represión
  (LIBRES) convoca a unas jornadas necesarias para prepararnos de cara al fu
 turo político al que nos enfrentamos. Mientras los partidos políticos se 
 alían para una posible reforma constitucional pactada por sus élites\,  l
 os movimientos ciudadanos de base están planteando la[..]\nhttps://lavorag
 ine.net/eventos/la-necesidad-de-los-procesos-constituyentes-i-emmanuel-rodr
 iguez/
URL:https://lavoragine.net/eventos/la-necesidad-de-los-procesos-constituyentes-i-emmanuel-rodriguez/
END:VEVENT
END:VCALENDAR