BEGIN:VCALENDAR
VERSION:2.0
PRODID:-//eventon.com NONSGML v1.0//EN
CALSCALE:GREGORIAN
METHOD:PUBLISH
BEGIN:VEVENT
UID:69ea2cd91aa75
DTSTAMP:20260423T142945Z
DTSTART:20160503T180000Z
DTEND:20160503T190000Z
LOCATION:La Vorágine
SUMMARY:ENCUENTRO: Santander si puede
DESCRIPTION:La política municipal nada convulsa en Santander. Lo que era G
 anemos Santander Sí Puede ahora son dos. ¿Una jugada del alcalde?\,  ¿un
 a traición interna?\,  ¿una marca fantasma que tumba proyectos que antes 
 ha avalado?\,  ¿un proceso más complejo? Como nos parece que debemos acab
 ar con los intermediarios y conocer en[..]\nhttps://lavoragine.net/eventos/
 encuentro-santander-se-puede/
URL:https://lavoragine.net/eventos/encuentro-santander-se-puede/
END:VEVENT
END:VCALENDAR