BEGIN:VCALENDAR
VERSION:2.0
PRODID:-//eventon.com NONSGML v1.0//EN
CALSCALE:GREGORIAN
METHOD:PUBLISH
BEGIN:VEVENT
UID:69ed15b65a0a4
DTSTAMP:20260425T192750Z
DTSTART:20160805T180000Z
DTEND:20160804T230000Z
LOCATION:La Vorágine
SUMMARY:Argentina y los libros: Mochuelo libros
DESCRIPTION:Andrea y y Tomás son argentinos y se dedican a hacer libros ar
 tesanales con mucho arte. Tomás tiene sus raíces familiares en Molledo y\
 ,  junto a Andrea\,  ambos se encuentran en Cantabria pasando unos días\, 
  momento que aprovecharán para presentar en público lo que hacen. Mochuel
 o Libros\,  pues así se[..]\nhttps://lavoragine.net/eventos/argentina-los-
 libros-mochuelo-libros/
URL:https://lavoragine.net/eventos/argentina-los-libros-mochuelo-libros/
END:VEVENT
END:VCALENDAR