BEGIN:VCALENDAR
VERSION:2.0
PRODID:-//eventon.com NONSGML v1.0//EN
CALSCALE:GREGORIAN
METHOD:PUBLISH
BEGIN:VEVENT
UID:69e9913dca9bf
DTSTAMP:20260423T032549Z
DTSTART:19691231T230000Z
DTEND:19691231T230000Z
LOCATION:Explana de Gamazo
SUMMARY:Poesía a la carpa II
DESCRIPTION:MyMadder Manuel Martín Martín (Madrid) es parte de la compañ
 ía cántabra MyMadder. Para la segunda descarga de La Surada nos va a rega
 lar una pieza propia titulada HANGAR 224. Manuel hace bachillerato de Artes
  en la escuela ¨La Palma¨ aunque\,  paralelamente\,  desarrolló una form
 ación en las calles\,  bajo la técnica[..]\nhttps://lavoragine.net/evento
 s/poesia-la-carpa-ii/
URL:https://lavoragine.net/eventos/poesia-la-carpa-ii/
END:VEVENT
END:VCALENDAR