BEGIN:VCALENDAR
VERSION:2.0
PRODID:-//eventon.com NONSGML v1.0//EN
CALSCALE:GREGORIAN
METHOD:PUBLISH
BEGIN:VEVENT
UID:69eb3e17c05a1
DTSTAMP:20260424T095535Z
DTSTART:20170221T183000Z
DTEND:20170221T200000Z
LOCATION:
SUMMARY:Nosotras / Gu geu; Mujeres en la cultura crítica
DESCRIPTION:Este primer proyecto de Femlab Cantábrico visibiliza a mujeres
  que han participado de forma activa en la consolidación de una cultura cr
 ítica en ambas ciudades. Parte de una realidad: la cultura está masculini
 zada y las voces de mujer suelen tener que abrir espacios en las rendijas d
 e un sistema heteropatriarcal[..]\nhttps://lavoragine.net/eventos/nosotras-
 gu-geu-mujeres-en-la-cultura-critica-libro/
URL:https://lavoragine.net/eventos/nosotras-gu-geu-mujeres-en-la-cultura-critica-libro/
END:VEVENT
END:VCALENDAR