BEGIN:VCALENDAR
VERSION:2.0
PRODID:-//eventon.com NONSGML v1.0//EN
CALSCALE:GREGORIAN
METHOD:PUBLISH
BEGIN:VEVENT
UID:69ec3cf408d6c
DTSTAMP:20260425T040300Z
DTSTART:20210716T180000Z
DTEND:20210716T215000Z
LOCATION:
SUMMARY:Mesa sobre movilidad rural
DESCRIPTION:Aunque creamos que no\,  una comunidad autónoma tan pequeña c
 omo la cántabra soporta brechas de incomunicación tremendas. Incomunicaci
 ón en dos sentidos: en el más palpable\,  que será el tema central de es
 ta mesa y que hace referencia a la desventaja clara que las zonas rurales s
 ufren ante el abandono de[..]\nhttps://lavoragine.net/eventos/mesa-sobre-mo
 vilidad-rural/
URL:https://lavoragine.net/eventos/mesa-sobre-movilidad-rural/
END:VEVENT
END:VCALENDAR