BEGIN:VCALENDAR
VERSION:2.0
PRODID:-//eventon.com NONSGML v1.0//EN
CALSCALE:GREGORIAN
METHOD:PUBLISH
BEGIN:VEVENT
UID:69eac61cc228d
DTSTAMP:20260424T012340Z
DTSTART:20170927T173000Z
DTEND:20170927T190000Z
LOCATION:
SUMMARY:El Diván de la Poesía. Nueva casa y mil voces
DESCRIPTION:El Diván de la Poesía regresa el 27 de Septiembre en a una nu
 eva casa que la acoge\,  La Vorágine (Calle Cisneros\,  15) Las voces que 
 participarán en esta ocasión: - Alberto Muñoz - Nieves Alvarez - Carmen 
 San Juan Resines - Mar i Bel Valdivia Palma - Alejandro Revuelta[..]\nhttps
 ://lavoragine.net/eventos/el-divan-de-la-poesia-nueva-casa-y-mil-voces/
URL:https://lavoragine.net/eventos/el-divan-de-la-poesia-nueva-casa-y-mil-voces/
END:VEVENT
END:VCALENDAR