BEGIN:VCALENDAR
VERSION:2.0
PRODID:-//eventon.com NONSGML v1.0//EN
CALSCALE:GREGORIAN
METHOD:PUBLISH
BEGIN:VEVENT
UID:69eab5ec54043
DTSTAMP:20260424T001436Z
DTSTART:20171027T173000Z
DTEND:20171027T183000Z
LOCATION:
SUMMARY:Cielo de agosto\,  con Javier Perales Valdés
DESCRIPTION:El poeta y cantautor Javier Perales Valdés fundador y director
  del colectivo Absenta Poetas presenta "Cielo de agosto"\,  su tercer libro
  de poemas. Editado por la Editorial Fanes\,  como una colección de poemas
  románticos y urbanos con los escenarios reales de la ciudad y la noche co
 mo hilos conductores. El[..]\nhttps://lavoragine.net/eventos/cielo-de-agost
 o-con-javier-perales-valdes/
URL:https://lavoragine.net/eventos/cielo-de-agosto-con-javier-perales-valdes/
END:VEVENT
END:VCALENDAR