BEGIN:VCALENDAR
VERSION:2.0
PRODID:-//eventon.com NONSGML v1.0//EN
CALSCALE:GREGORIAN
METHOD:PUBLISH
BEGIN:VEVENT
UID:69ed3e7c43291
DTSTAMP:20260425T222148Z
DTSTART:20171117T183000Z
DTEND:20171117T200000Z
LOCATION:
SUMMARY:Presentación de Absenta Poetas Nº 21
DESCRIPTION:El colectivo poético Absenta continúa con la celebración del
  XIII aniversario de su fundación y el X de su proyecto estrella\,  la rev
 ista Absenta Poetas\,  en esta ocasión presentando el número 21 de la rev
 ista\,  que llega colmada con los versos de Antonio Orihuela\,  Mikel Lado 
 Peña\,  Alen Kerish\,  Nieves[..]\nhttps://lavoragine.net/eventos/presenta
 cion-de-absenta-poetas-no-21/
URL:https://lavoragine.net/eventos/presentacion-de-absenta-poetas-no-21/
END:VEVENT
END:VCALENDAR