BEGIN:VCALENDAR
VERSION:2.0
PRODID:-//eventon.com NONSGML v1.0//EN
CALSCALE:GREGORIAN
METHOD:PUBLISH
BEGIN:VEVENT
UID:69ebdde07ef0f
DTSTAMP:20260424T211720Z
DTSTART:20171130T183000Z
DTEND:20171130T203000Z
LOCATION:
SUMMARY:Ibon Zubiela y Pablo Müller residen/resisten en La Vorágine
DESCRIPTION:Las personas que han sentido la Surada Poética los conocen y s
 aben que Ibon Zubiela y Pablo Müller son dos grandes poetas que residen en
  dos buenos seres humanos. Dos poetas que resisten al divismo y a las renun
 cias\,  que rehuyen la indolencia como agitan la conciencia. Regresan\,  ah
 ora juntos\, [..]\nhttps://lavoragine.net/eventos/ibon-zubiela-y-pablo-mull
 er-residenresisten-en-la-voragine-2/
URL:https://lavoragine.net/eventos/ibon-zubiela-y-pablo-muller-residenresisten-en-la-voragine-2/
END:VEVENT
END:VCALENDAR