BEGIN:VCALENDAR
VERSION:2.0
PRODID:-//eventon.com NONSGML v1.0//EN
CALSCALE:GREGORIAN
METHOD:PUBLISH
BEGIN:VEVENT
UID:69eb90ffce7f6
DTSTAMP:20260424T154919Z
DTSTART:20180125T183000Z
DTEND:20180125T200000Z
LOCATION:
SUMMARY:Javier Tazón y la reconstrucción de Santander tras el incendio
DESCRIPTION:Javier Tazón nos acompaña para conversar sobre la reconstrucc
 ión de Santander tras el incendio de 1941 desde un enfoque urbanístico\, 
  jurídico e histórico. al mismo tiempo presentará su última novela "San
 tander\,  la marinera" ambientada en ese momento histórico. Sinopsis Santa
 nder la Marinera es un homenaje a la ciudad y sus[..]\nhttps://lavoragine.n
 et/eventos/javier-tazon-y-la-reconstruccion-de-santander-tras-el-incendio/
URL:https://lavoragine.net/eventos/javier-tazon-y-la-reconstruccion-de-santander-tras-el-incendio/
END:VEVENT
END:VCALENDAR