BEGIN:VCALENDAR
VERSION:2.0
PRODID:-//eventon.com NONSGML v1.0//EN
CALSCALE:GREGORIAN
METHOD:PUBLISH
BEGIN:VEVENT
UID:69e5a8c5cef67
DTSTAMP:20260420T041709Z
DTSTART:20221202T183000Z
DTEND:20221202T180000Z
LOCATION:
SUMMARY:Alquimistas de malestar
DESCRIPTION:Este libro de la editorial Trea pretende encontrar algunas resp
 uestas a los interrogantes suscitados por la preocupante deriva que implica
  el auge de líderes y movimientos populistas o de extrema derecha; si hace
  una década las primaveras árabes\,  el 15-M español\,  Occupy Wall Stre
 et o Nuit Debout suscitaron la esperanza\, [..]\nhttps://lavoragine.net/eve
 ntos/alquimistas-de-malestar/
URL:https://lavoragine.net/eventos/alquimistas-de-malestar/
END:VEVENT
END:VCALENDAR